Workbook

Sheet Indices
B2: LES INDICES IEIF IMMOBILIER EUROPE
K3: Base 1000 au 31/12/2002
A6: au | B6: 29/05/2026 | D6: Euronext | F6: IEIF | H6: IEIF | J6: IEIF | K6: IEIF
D7: IEIF | F7: Europe | H7: Europe Continentale | J7: Eurozone | K7: Eurozone
D8: REIT Europe | K8: hors France
D10: € | F10: € | G10: monnaie locale | H10: € | I10: monnaie locale | J10: € | K10: €
A12: - Indice nu au | B12: 28-05-2026 | D12: 1189.034 | F12: 1362.607 | G12: 1241.921 | H12: 1654.527 | I12: 1385.075 | J12: 1338.434 | K12: 990.4489
A14: - Indice nu au | B14: 29/05/2026 | D14: 1189.833 | F14: 1365.813 | G14: 1247.16 | H14: 1659.129 | I14: 1391.49 | J14: 1337.409 | K14: 987.0382
A16: Variation par rapport à J-1 | D16: 0.00067197406 | F16: 0.0023528427 | G16: 0.0042184648 | H16: 0.0027814596 | I16: 0.0046315181 | J16: -0.00076582035 | K16: -0.0034435901
A17: Variation par rapport au 31/12/2025 | D17: 0.011912477 | F17: -0.05316716 | G17: -0.20777261 | H17: -0.063607647 | I17: -0.22068343 | J17: -0.011732184 | K17: -0.025190108
A19: - Rendement brut | D19: 0 | F19: 0 | G19: 0 | H19: 0 | I19: 0 | J19: 0 | K19: 0
A22: - Indice coupons nets réinvestis | D22: 3081.342 | F22: 2866.964 | G22: 2311.145 | H22: 3711.577 | I22: 2627.489 | J22: 3073.23 | K22: 2121.311
A23: Variation par rapport au 31/12/2025 | D23: 0.036379579 | F23: -0.037603748 | G23: -0.20777239 | H23: -0.043948602 | I23: -0.22068326 | J23: 0.014128763 | K23: -0.00065153056
A25: - Indice coupons bruts réinvestis | D25: 3643.882 | F25: 3550.853 | G25: 2553.268 | H25: 4833.361 | I25: 2951.115 | J25: 3775.239 | K25: 2494.301
A26: Variation par rapport au 31/12/2025 | D26: 0.043737273 | F26: -0.029057564 | G26: -0.20777263 | H26: -0.03465592 | I26: -0.22068348 | J26: 0.024981355 | K26: 0.010667864

Sheet Indices (par pays)
B2: LES INDICES IEIF IMMOBILIER EUROPE
B3: Base 1000 au 31/12/2002
D6: IEIF | E6: IEIF | F6: IEIF | G6: IEIF | H6: IEIF | I6: IEIF | J6: IEIF | K6: IEIF | M6: IEIF | O6: IEIF
D7: Allemagne | E7: Autriche | F7: Belgique | G7: Espagne | H7: Finlande | I7: France | J7: Pays-Bas | K7: Royaume-Uni | M7: Suède | O7: Suisse
D10: € | E10: € | F10: € | G10: € | H10: € | I10: € | J10: € | K10: € | L10: monnaie locale | M10: € | N10: monnaie locale | O10: € | P10: monnaie locale
A12: - Indice nu au | B12: 28-05-2026 | D12: 1414.423 | E12: 866.7191 | F12: 1068.394 | G12: 129.041 | H12: 292.6224 | I12: 1743.449 | J12: 910.4818 | K12: 801.6893 | L12: 1056.105 | M12: 4013.32 | N12: 4498.495 | O12: 5416.896 | P12: 3399.675 | Q12: 0
A14: - Indice nu au | B14: 29/05/2026 | D14: 1399.644 | E14: 897.4912 | F14: 1065.258 | G14: 128.5843 | H14: 290.2088 | I14: 1751.28 | J14: 910.0696 | K14: 802.3447 | L14: 1055.14 | M14: 4046.969 | N14: 4527.305 | O14: 5467.148 | P14: 3422.393 | Q14: 0
A16: Variation par rapport à J-1 | D16: -0.010448784 | E16: 0.035504121 | F16: -0.0029352467 | G16: -0.0035391852 | H16: -0.0082481724 | I16: 0.0044916714 | J16: -0.00045272734 | K16: 0.0008175237 | L16: -0.0009137349 | M16: 0.0083843302 | N16: 0.0064043641 | O16: 0.0092768995 | P16: 0.0066824035 | Q16: 0
A17: Variation par rapport au 31/12/2025 | D17: -0.10130889 | E17: 0.060413063 | F17: -0.026943928 | G17: 0.14607462 | H17: -0.27676775 | I17: 0.012910081 | J17: 0.014103428 | K17: -0.017595124 | L17: -0.025920913 | M17: -0.26320135 | N17: -0.26675067 | O17: 0.061661091 | P17: 0.040325461 | Q17: 0
A19: - Rendement brut | D19: 0 | E19: 0 | F19: 0 | G19: 0 | H19: 0 | I19: 0 | J19: 0 | K19: 0 | L19: 0 | M19: 0 | N19: 0 | O19: 0 | P19: 0 | Q19: 0
A22: - Indice coupons nets réinvestis | D22: 2774.237 | E22: 1380.916 | F22: 3035.917 | G22: 196.6888 | H22: 788.0673 | I22: 4501.314 | J22: 2959.795 | K22: 1475.336 | L22: 1931.932 | M22: 8183.041 | N22: 7601.608 | O22: 12396.79 | P22: 6961.051 | Q22: 0
A23: Variation par rapport au 31/12/2025 | D23: -0.065870693 | E23: 0.07496571 | F23: 0.0036523896 | G23: 0.15533741 | H23: -0.25775379 | I23: 0.040967697 | J23: 0.038216739 | K23: -0.017300236 | L23: -0.025920895 | M23: -0.25583471 | N23: -0.2667507 | O23: 0.077901131 | P23: 0.040325041 | Q23: 0
A25: - Indice coupons bruts réinvestis | D25: 3180.118 | E25: 1617.125 | F25: 3943.55 | G25: 210.9553 | H25: 1135.574 | I25: 5869.604 | J25: 4132.849 | K25: 1595.961 | L25: 2063.909 | M25: 13073.86 | N25: 8346.04 | O25: 14468.11 | P25: 7455.877 | Q25: 0
A26: Variation par rapport au 31/12/2025 | D26: -0.05305551 | E26: 0.080485613 | F26: 0.019454307 | G26: 0.15751079 | H26: -0.22129221 | I26: 0.05083728 | J26: 0.087797665 | K26: -0.016804067 | L26: -0.025920897 | M26: -0.25108209 | N26: -0.26675077 | O26: 0.088939684 | P26: 0.040325124 | Q26: 0
P29: Source : IEIF, SIX Financial Information

Sheet Ponderation
A1: NOMENCLATURE DES INDICES IEIF IMMOBILIER EUROPE
A2: AU 29/05/2026
B3: Capitalisation en M€ | C3: Pondération indices par pays | D3: Pondération indice IEIF Eurozone | E3: Pondération indice IEIF Europe continentale | F3: Pondération indice IEIF Europe | G3: Code ISIN
B4: S
A7: IMMOFINANZ IMMOBILIEN ANLAGEN | B7: 2213.169 | C7: 0.48627183 | D7: 0.016328146 | E7: 0.01004851 | F7: 0.0077436634 | G7: AT0000A21KS2
A8: CA IMMOBILIEN ANLAGEN AG | B8: 2338.126 | C8: 0.51372707 | D8: 0.017250044 | E8: 0.010615855 | F8: 0.0081808758 | G8: AT0000641352
A9: Total Autriche (2 sociétés) | B9: 4551.3 | C9: 1
A11: ASCENCIO | B11: 330.4588 | C11: 0.014056968 | D11: 0.0024380332 | E11: 0.0015003908 | F11: 0.0011562432 | G11: BE0003856730
A12: Home Invest Belgium | B12: 387.4386 | C12: 0.01648076 | D12: 0.0028584143 | E12: 0.0017590977 | F12: 0.00135561 | G12: BE0974409410
A13: LEASINVEST REAL ESTATE | B13: 469.9062 | C13: 0.019988745 | D13: 0.0034668374 | E13: 0.0021335275 | F13: 0.0016441561 | G13: BE0003770840
A14: CP Invest | B14: 542.7847 | C14: 0.023088831 | D14: 0.0040045147 | E14: 0.0024644197 | F14: 0.0018991509 | G14: BE0974273055
A15: VASTNED RETAIL BELGIUM | B15: 574.3364 | C15: 0.024430968 | D15: 0.0042372944 | E15: 0.0026076747 | F15: 0.0020095473 | G15: BE0003754687
A16: WERELDHAVE BELGIUM | B16: 606.0093 | C16: 0.025778262 | D16: 0.0044709682 | E16: 0.00275148 | F16: 0.0021203677 | G16: BE0003724383
A17: RETAIL ESTATES | B17: 1066.8723 | C17: 0.045382329 | D17: 0.0078710874 | E17: 0.0048439484 | F17: 0.0037328825 | G17: BE0003720340
A18: Xior Student Housing | B18: 1295.7889 | C18: 0.055119922 | D18: 0.0095599705 | E18: 0.0058833045 | F18: 0.0045338395 | G18: BE0974288202
A19: MONTEA | B19: 1563.3127 | C19: 0.066499778 | D19: 0.011533687 | E19: 0.0070979498 | F19: 0.0054698793 | G19: BE0003853703
A20: VGP | B20: 2543.1244 | C20: 0.10817875 | D20: 0.018762465 | E20: 0.011546615 | F20: 0.0088981452 | G20: BE0003878957
A21: Shurgard Self Storage Limited | B21: 2869.0955 | C21: 0.12204482 | D21: 0.021167389 | E21: 0.01302663 | F21: 0.010038686 | G21: GG00BQZCBZ44
A22: WDP RG | B22: 5349.6946 | C22: 0.22756388 | D22: 0.03946856 | E22: 0.024289359 | F22: 0.018718062 | G22: BE0974349814
A23: AEDIFICA | B23: 5909.7145 | C23: 0.25138586 | D23: 0.043600232 | E23: 0.026832032 | F23: 0.020677517 | G23: BE0003851681
A24: Total Belgique (13 sociétés) | B24: 23508.54 | C24: 1
A26: Peach Property Rg | B26: 304.5368 | C26: 0.0080848174 | E26: 0.0013826965 | F26: 0.0010655447 | G26: CH0118530366
A27: Novavest N | B27: 476.3085 | C27: 0.012644998 | E27: 0.002162596 | F27: 0.0016665572 | G27: CH0212186248
A28: Fundamenta Real N | B28: 644.8129 | C28: 0.017118439 | E28: 0.002927661 | F28: 0.0022561377 | G28: CH0045825517
A29: Warteck Invest N | B29: 659.9412 | C29: 0.017520064 | E29: 0.0029963484 | F29: 0.0023090702 | G29: CH0002619481
A30: PLAZZA -A- N | B30: 887.6519 | C30: 0.023565308 | E30: 0.0040302293 | F30: 0.0031058078 | G30: CH0284142913
A31: EPIC Suisse Rg | B31: 1032.2728 | C31: 0.027404692 | E31: 0.0046868554 | F31: 0.0036118223 | G31: CH0516131684
A32: Zug Estates N -B- | B32: 1075.372 | C32: 0.028548886 | E32: 0.0048825398 | F32: 0.0037626222 | G32: CH0148052126
A33: Cham Swiss Prop Rg | B33: 1280.9632 | C33: 0.034006904 | E33: 0.005815991 | F33: 0.0044819658 | G33: CH0524026959
A34: HIAG Immo N | B34: 1564.8866 | C34: 0.041544478 | E34: 0.0071050959 | F34: 0.0054753862 | G34: CH0239518779
A35: INTERSHOP HOLDING | B35: 1869.1599 | C35: 0.0496223 | E35: 0.0084865959 | F35: 0.0065400089 | G35: CH1338987303
A36: Investis Hldg N | B36: 2154.8585 | C36: 0.057207003 | E36: 0.0097837608 | F36: 0.0075396406 | G36: CH0325094297
A37: MOBIMO HOLDING | B37: 2900.5513 | C37: 0.077003592 | E37: 0.013169449 | F37: 0.010148747 | G37: CH0011108872
... A40: SWISS PRIME SITE-REG | B40: 11518.622 | C40: 0.30579542 | E40: 0.052298304 | F40: 0.04030254 | G40: CH0008038389
A41: Total Suisse (15 sociétés) | B41: 37667.74 | C41: 1
A43: HAMBORNER REIT AG | B43: 424.6123 | C43: 0.016869878 | D43: 0.0031326716 | E43: 0.0019278784 | F43: 0.0014856772 | G43: DE000A3H2333
A44: TAG IMMOBILIEN AG | B44: 2686.1865 | C44: 0.10672239 | D44: 0.019817938 | E44: 0.012196163 | F44: 0.0093987056 | G44: DE0008303504
A45: LEG IMMOBILIEN AG | B45: 4151.6838 | C45: 0.1649467 | D45: 0.03062997 | E45: 0.018849999 | F45: 0.014526338 | G45: DE000LEG1110
A46: VONOVIA SE | B46: 17907.369 | C46: 0.71146107 | D46: 0.13211559 | E46: 0.081305297 | F46: 0.062656143 | G46: DE000A1ML7J1
A47: Total Allemagne (4 sociétés) | B47: 25169.85 | C47: 1
A49: Vivenio Resid Br | B49: 988.6025 | C49: 0.070796715 | D49: 0.0072936346 | E49: 0.004488578 | F49: 0.0034590241 | G49: ES0105384004
A50: INMOBILIARIA COLONIAL | B50: 3600.9585 | C50: 0.25787517 | D50: 0.026566871 | E50: 0.016349527 | F50: 0.012599404 | G50: ES0139140174
A51: MERLIN PROPERTIES | B51: 9374.4 | C51: 0.67132819 | D51: 0.069161719 | E51: 0.042562835 | F51: 0.032800115 | G51: ES0105025003
A52: Total Espagne (3 sociétés) | B52: 13963.96 | C52: 1
A54: CITYCON OYJ | B54: 521.336 | C54: 0.20957726 | D54: 0.0038462722 | E54: 0.0023670356 | F54: 0.001824104 | G54: FI4000369947
A55: Kojamo Rg | B55: 1966.222 | C55: 0.79042194 | D55: 0.01450624 | E55: 0.0089272896 | F55: 0.0068796198 | G55: FI4000312251
A56: Total Finlande (2 sociétés) | B56: 2487.56 | C56: 1
A58: FONCIERE INEA | B58: 374.0173 | C58: 0.0079166885 | D58: 0.0027593957 | E58: 0.0016981606 | F58: 0.0013086502 | G58: FR0010341032
A59: PATRIMOINE ET COMM | B59: 395.7204 | C59: 0.0083760702 | D59: 0.0029195152 | E59: 0.0017966998 | F59: 0.0013845872 | G59: FR0011027135
A60: MERCIALYS | B60: 1113.4939 | C60: 0.023568922 | D60: 0.0082150486 | E60: 0.0050556257 | F60: 0.003896007 | G60: FR0010241638
A61: FREY | B61: 1122.3034 | C61: 0.023755389 | D61: 0.0082800427 | E61: 0.0050956237 | F61: 0.0039268306 | G61: FR0010588079
A62: ARGAN | B62: 1576.9367 | C62: 0.033378447 | D62: 0.011634201 | E62: 0.0071598072 | F62: 0.0055175483 | G62: FR0010481960
A63: ICADE | B63: 1605.4995 | C63: 0.033983026 | D63: 0.011844929 | E63: 0.0072894917 | F63: 0.0056174868 | G63: FR0000035081
A64: CARMILA | B64: 2328.805 | C64: 0.049292971 | D64: 0.017181276 | E64: 0.010573535 | F64: 0.0081482625 | G64: FR0010828137
A65: ALTAREA COGEDIM | B65: 2533.4177 | C65: 0.053623934 | D65: 0.018690852 | E65: 0.011502543 | F65: 0.0088641825 | G65: FR0000033219
A66: GECINA | B66: 5640.3972 | C66: 0.11938824 | D66: 0.041613283 | E66: 0.025609244 | F66: 0.019735202 | G66: FR0010040865
A67: COVIVIO | B67: 6167.1966 | C67: 0.13053881 | D67: 0.045499863 | E67: 0.028001085 | F67: 0.021578422 | G67: FR0000064578
A68: KLEPIERRE | B68: 10045.878 | C68: 0.21263746 | D68: 0.074115698 | E68: 0.045611565 | F68: 0.035149552 | G68: FR0000121964
A69: UNIBAIL-RODAMCO-WE | B69: 14340.499 | C69: 0.30354014 | D69: 0.10580022 | E69: 0.065110545 | F69: 0.050176013 | G69: FR0013326246
A70: Total France (12 sociétés) | B70: 47244.16 | C70: 1
A72: LSL Property Ser Rg | B72: 249.5867 | C72: 0.0041857699 | F72: 0.00087327962 | G72: GB00B1G5HX72
A73: NewRiver REIT Rg | B73: 388.5169 | C73: 0.0065157412 | F73: 0.0013593829 | G73: GB00BD7XPJ64
A74: MOUNTVIEW ESTATES | B74: 400.8227 | C74: 0.0067221193 | F74: 0.0014024397 | G74: GB0006081037
A75: PICTON PROPERTY INCOME | B75: 432.9881 | C75: 0.007261559 | F75: 0.0015149833 | G75: GB00B0LCW208
A76: CUSTODIAN REIT | B76: 489.4584 | C76: 0.0082086114 | F76: 0.0017125674 | G76: GB00BJFLFT45
A77: The PRS REIT Rg | B77: 716.8977 | C77: 0.012022952 | F77: 0.0025083554 | G77: GB00BF01NH51
A78: WORKSPACE GROUP | B78: 778.7049 | C78: 0.013059508 | F78: 0.0027246128 | G78: GB00B67G5X01
A79: Targt Hlthc REIT Rg | B79: 782.3266 | C79: 0.013120247 | F79: 0.0027372848 | G79: GB00BJGTLF51
A80: SUPERMARKT INCOME REIT PLC | B80: 1200.5355 | C80: 0.020133947 | F80: 0.0042005571 | G80: GB00BF345X11
A81: Savills Rg | B81: 1319.9752 | C81: 0.022137047 | F81: 0.004618465 | G81: GB00B135BJ46
A82: GRAINGER TRUST | B82: 1350.0146 | C82: 0.022640832 | F82: 0.00472357 | G82: GB00B04V1276
A83: GREAT PORTLAND ESTATES | B83: 1455.6768 | C83: 0.024412872 | F83: 0.0050932717 | G83: GB00BF5H9P87
... A96: SEGRO | B96: 11290.716 | C96: 0.1893544 | F96: 0.039505119 | G96: GB00B5ZN1N88
A97: Total Royaume-Uni (25 sociétés) | B97: 59627.43 | C97: 1
A99: LAMDA DEVELOPMENT | B99: 1091.349 | C99: 0.99999908 | D99: 0.0080516697 | E99: 0.0049550806 | F99: 0.0038185241 | G99: GRS245213004
A100: Total Grèce (1 société) | B100: 1091.35 | C100: 1
A102: IRISH RES, PROP. | B102: 585.2775 | C102: 0.99999573 | D102: 0.0043180148 | F102: 0.0020478291 | G102: IE00BJ34P519
A103: Total Irlande (1 société) | B103: 585.28 | C103: 1
A105: IMMOBILIARE GRANDE DISTRIBUZIONE | B105: 502.0557 | C105: 0.99999144 | D105: 0.0037040275 | E105: 0.0022794967 | F105: 0.0017566441 | G105: IT0005322612
A106: Total Italie (1 société) | B106: 502.06 | C106: 1
A108: GRAND CITY PROPERTIE | B108: 1709.023 | C108: 0.30413883 | D108: 0.012608697 | E108: 0.0077595222 | F108: 0.0059797055 | G108: LU0775917882
A109: Aroundtown SA | B109: 3910.193 | C109: 0.69586046 | D109: 0.028848318 | E109: 0.017753552 | F109: 0.013681385 | G109: LU1673108939
A110: Total Luxembourg (2 sociétés) | B110: 5619.22 | C110: 1
A112: NSI NV | B112: 354.3288 | C112: 0.021922746 | D112: 0.0026141394 | E112: 0.0016087684 | F112: 0.0012397621 | G112: NL0012365084
A113: WERELDHAVE | B113: 980.142 | C113: 0.060642557 | D113: 0.0072312154 | E113: 0.0044501645 | F113: 0.0034294217 | G113: NL0000289213
A114: Eurocommercial Properties | B114: 1607.549 | C114: 0.099460978 | D114: 0.01186005 | E114: 0.0072987971 | F114: 0.0056246578 | G114: NL0015000K93
A115: NEPI ROCKCASTLE | B115: 5342.6798 | C115: 0.33055799 | F115: 0.018693518 | G115: NL0015000RT3
A116: CTP N,V. | B116: 7877.9055 | C116: 0.48741543 | D116: 0.058120998 | E116: 0.035768262 | F116: 0.027564026 | G116: NL00150006R6
A117: Total Pays-Bas (5 sociétés) | B117: 16162.61 | C117: 1
A119: ENTRA ASA | B119: 1767.739 | C119: 0.99999943 | E119: 0.008026112 | F119: 0.0061851471 | G119: NO0010716418
A120: Total Norvège (1 société) | B120: 1767.74 | C120: 1
A122: GLOBE TRADE CENTRE | B122: 340.2227 | C122: 0.39991384 | E122: 0.0015447221 | F122: 0.0011904062 | G122: PLGTC0000037
A123: ECHO INVESTMENT | B123: 510.5209 | C123: 0.60009039 | E123: 0.0023179315 | F123: 0.001786263 | G123: PLECHPS00019
A124: Total Pologne (2 sociétés) | B124: 850.74 | C124: 1
A126: Corem Pty-B Rg | B126: 323.3512 | C126: 0.0071848877 | E126: 0.00146812 | F126: 0.0011313744 | G126: SE0010714287
A127: Heba Fast Rg-B | B127: 352.5561 | C127: 0.0078338227 | E127: 0.0016007198 | F127: 0.0012335595 | G127: SE0017911480
A128: Prisma Prop Rg | B128: 395.4716 | C128: 0.0087874083 | E128: 0.0017955701 | F128: 0.0013837167 | G128: SE0022062055
A129: Stenhus Fastig Rg | B129: 405.5685 | C129: 0.0090117622 | E129: 0.0018414133 | F129: 0.0014190448 | G129: SE0014956819
A130: John Mattson Rg | B130: 420.4758 | C130: 0.0093430035 | E130: 0.0019090974 | F130: 0.001471204 | G130: SE0012481364
A131: Eastnine Rg | B131: 421.697 | C131: 0.0093701387 | E131: 0.001914642 | F131: 0.0014754768 | G131: SE0022050183
...

Sheet Nomenclature REIT
A1: NOMENCLATURE DE L'INDICE EURONEXT IEIF REIT EUROPE
A2: =Indices!B14 -> 29/05/2026
B4: Capitalisation en M€ | C4: Flottant | D4: Capitalisation flottante capée en M€ | E4: Poids | F4: Code ISIN
A6: RETAIL ESTATES | B6: 1066.872 | C6: 0.8 | D6: 853.4978 | E6: 0.01 | F6: BE0003720340
A7: Xior Student Housing | B7: 1295.789 | C7: 0.85 | D7: 1101.4205 | E7: 0.01 | F7: BE0974288202
A8: MONTEA | B8: 1563.313 | C8: 0.9 | D8: 1406.9814 | E8: 0.01 | F8: BE0003853703
A9: Shurgard Self Storage Limited | B9: 2869.096 | C9: 0.3 | D9: 860.7287 | E9: 0.01 | F9: GG00BQZCBZ44
A10: WDP RG | B10: 5349.695 | C10: 0.8 | D10: 4279.7557 | E10: 0.04 | F10: BE0974349814
A11: AEDIFICA | B11: 5909.715 | C11: 1 | D11: 5909.7145 | E11: 0.06 | F11: BE0003851681
A12: Total Belgique (6 sociétés) | B12: 18054.48 | D12: 14412.1 | E12: 0.14
A14: HAMBORNER REIT AG | B14: 424.6123 | C14: 0.9 | D14: 382.151 | E14: 0 | F14: DE000A3H2333
A15: Total Allemagne (1 société) | B15: 424.61 | D15: 382.15 | E15: 0
A17: INMOBILIARIA COLONIAL | B17: 3600.959 | C17: 0.4 | D17: 1440.383 | E17: 0.01 | F17: ES0139140174
A18: MERLIN PROPERTIES | B18: 9374.4 | C18: 0.65 | D18: 6093.36 | E18: 0.06 | F18: ES0105025003
A19: Total Espagne (2 sociétés) | B19: 12975.36 | D19: 7533.74 | E19: 0.07
A21: MERCIALYS | B21: 1113.494 | C21: 1 | D21: 1113.4939 | E21: 0.01 | F21: FR0010241638
A22: ARGAN | B22: 1576.937 | C22: 0.5 | D22: 788.4683 | E22: 0.01 | F22: FR0010481960
A23: ICADE | B23: 1605.5 | C23: 0.4 | D23: 642.1998 | E23: 0.01 | F23: FR0000035081
A24: CARMILA | B24: 2328.805 | C24: 0.45 | D24: 1047.9623 | E24: 0.01 | F24: FR0010828137
A25: ALTAREA COGEDIM | B25: 2533.418 | C25: 0.3 | D25: 760.0253 | E25: 0.01 | F25: FR0000033219
A26: GECINA | B26: 5640.397 | C26: 0.6 | D26: 3384.2383 | E26: 0.03 | F26: FR0010040865
A27: COVIVIO | B27: 6167.197 | C27: 0.5 | D27: 3083.5983 | E27: 0.03 | F27: FR0000064578
A28: KLEPIERRE | B28: 10045.878 | C28: 0.75 | D28: 7534.4087 | E28: 0.07 | F28: FR0000121964
A29: UNIBAIL-RODAMCO-WE | B29: 14340.499 | C29: 0.85 | D29: 11205.07 | E29: 0.11 | F29: FR0013326246
A30: Total France (9 sociétés) | B30: 45352.12 | D30: 29559.47 | E30: 0.28
A32: WORKSPACE GROUP | B32: 778.7049 | C32: 0.6 | D32: 467.2229 | E32: 0 | F32: GB00B67G5X01
A33: SUPERMARKT INCOME REIT PLC | B33: 1200.5355 | C33: 1 | D33: 1200.5355 | E33: 0.01 | F33: GB00BF345X11
A34: GRAINGER TRUST | B34: 1350.0146 | C34: 0.9 | D34: 1215.0131 | E34: 0.01 | F34: GB00B04V1276
A35: GREAT PORTLAND ESTATES | B35: 1455.6768 | C35: 0.9 | D35: 1310.1091 | E35: 0.01 | F35: GB00BF5H9P87
A36: SAFESTORE HOLDINGS | B36: 1619.7402 | C36: 1 | D36: 1619.7402 | E36: 0.02 | F36: GB00B1N7Z094
A37: SIRIUS REAL ESTATE | B37: 1795.5575 | C37: 1 | D37: 1795.5575 | E37: 0.02 | F37: GG00B1W3VF54
A38: BIG YELLOW GROUP | B38: 1898.3969 | C38: 1 | D38: 1898.3969 | E38: 0.02 | F38: GB0002869419
A39: HAMMERSON | B39: 2111.4576 | C39: 1 | D39: 2111.4576 | E39: 0.02 | F39: GB00BRJQ8J25
A40: DERWENT LONDON | B40: 2303.6466 | C40: 0.95 | D40: 2188.4642 | E40: 0.02 | F40: GB0002652740
A41: PRIMARY HEALTH PROPERTIES | B41: 2813.223 | C41: 1 | D41: 2813.223 | E41: 0.03 | F41: GB00BYRJ5J14
A42: CAPITAL & COUNTIES PROPERTIES | B42: 3069.8083 | C42: 0.75 | D42: 2302.3563 | E42: 0.02 | F42: GB00B62G9D36
A43: UNITE GROUP PLC | B43: 3110.1308 | C43: 0.9 | D43: 2799.1177 | E43: 0.03 | F43: GB0006928617
... A48: SEGRO | B48: 11290.716 | C48: 0.9 | D48: 10161.645 | E48: 0.1 | F48: GB00B5ZN1N88
A49: Total Royaume-Uni (17 sociétés) | B49: 54846.86 | D49: 51203.75 | E49: 0.49
A51: WERELDHAVE | B51: 980.142 | C51: 0.8 | D51: 784.1136 | E51: 0.01 | F51: NL0000289213
A52: Eurocommercial Properties | B52: 1607.549 | C52: 0.8 | D52: 1286.0392 | E52: 0.01 | F52: NL0015000K93
A53: Total Pays-Bas (2 sociétés) | B53: 2587.69 | D53: 2070.15 | E53: 0.02
A55: TOTAL (37 REIT) | B55: 134241.12 | D55: 105161.36 | E55: 0.01

Sheet Histo2002 Nu
A1: Date | B1: IEIF Eurozone | C1: IEIF Europe Continentale | D1: IEIF Europe | E1: IEIF Eurozone hors France | F1: Euronext IEIF REIT Europe
A2: 37621 | B2: 1000 | C2: 1000 | D2: 1000 | E2: 1000 | F2: 1000
A3: 37623 | B3: 1008.1639 | C3: 1007.3601 | D3: 1007.6233 | E3: 1017.0385 | F3: 1010.59
A4: 37624 | B4: 1015.6595 | C4: 1014.0418 | D4: 1012.3761 | E4: 1023.1191 | F4: 1019.51
A5: 37627 | B5: 1012.2435 | C5: 1011.4248 | D5: 1007.9529 | E5: 1020.933 | F5: 1019.45
A6: 37628 | B6: 1006.3923 | C6: 1007.1173 | D6: 1001.753 | E6: 1016.2602 | F6: 1016.62
A7: 37629 | B7: 1003.0346 | C7: 1003.7538 | D7: 997.0116 | E7: 1011.4714 | F7: 1017.31
A8: 37630 | B8: 1007.5714 | C8: 1006.9649 | D8: 996.8804 | E8: 1017.2381 | F8: 1024.18
A9: 37631 | B9: 1008.2223 | C9: 1007.6747 | D9: 998.9079 | E9: 1018.9602 | F9: 1024.44
A10: 37634 | B10: 1006.2173 | C10: 1005.0458 | D10: 993.2011 | E10: 1013.4512 | F10: 1021.76
A11: 37635 | B11: 1005.0131 | C11: 1004.357 | D11: 995.4962 | E11: 1012.0918 | F11: 1019.3
A12: 37636 | B12: 1003.893 | C12: 1003.3718 | D12: 994.0829 | E12: 1010.362 | F12: 1016.91
A13: 37637 | B13: 1005.3253 | C13: 1004.2368 | D13: 994.332 | E13: 1015.7948 | F13: 1018.46
... A2819: 41635 | B2819: 1432.5165 | C2819: 1531.82 | D2819: 1367.6147 | E2819: 875.9603 | F2819: 1382.4106
A2820: 41638 | B2820: 1437.8435 | C2820: 1537.5165 | D2820: 1370.3301 | E2820: 876.8684 | F2820: 1382.1547 | G2820: =#REF! -> #REF! | H2820: =B1 -> IEIF Eurozone | I2820: =D1 -> IEIF Europe | J2820: =F1 -> Euronext IEIF REIT Europe
A2821: 41639 | B2821: 1450.3258 | C2821: 1549.1407 | D2821: 1383.8544 | E2821: 877.656 | F2821: 1401.7498 | G2821: 1000 | H2821: 1000 | I2821: 1000 | J2821: 1000
A2822: 41641 | B2822: 1426.8614 | C2822: 1527.935 | D2822: 1369.8567 | E2822: 870.7167 | F2822: 1377.6062 | G2822: =G2821*#REF!/#REF! -> #REF! | H2822: =H2821*B2822/B2821 -> 983.82129 | I2822: =I2821*D2822/D2821 -> 989.88499 | J2822: =J2821*F2822/F2821 -> 982.7761
A2823: 41642 | B2823: 1437.3771 | C2823: 1538.2374 | D2823: 1382.2232 | E2823: 874.8819 | F2823: 1393.1376 | G2823: =G2822*#REF!/#REF! -> #REF! | H2823: =H2822*B2823/B2822 -> 991.07187 | I2823: =I2822*D2823/D2822 -> 998.82126 | J2823: =J2822*F2823/F2822 -> 993.85611
A2824: 41645 | B2824: 1436.3902 | C2824: 1536.087 | D2824: 1380.305 | E2824: 876.405 | F2824: 1391.8047 | G2824: =G2823*#REF!/#REF! -> #REF! | H2824: =H2823*B2824/B2823 -> 990.3914 | I2824: =I2823*D2824/D2823 -> 997.43513 | J2824: =J2823*F2824/F2823 -> 992.90522
A2825: 41646 | B2825: 1446.1882 | C2825: 1544.7208 | D2825: 1388.9708 | E2825: 882.4903 | F2825: 1400.3686 | G2825: =G2824*#REF!/#REF! -> #REF! | H2825: =H2824*B2825/B2824 -> 997.14712 | I2825: =I2824*D2825/D2824 -> 1003.6972 | J2825: =J2824*F2825/F2824 -> 999.01466
A2826: 41647 | B2826: 1448.0644 | C2826: 1546.3696 | D2826: 1393.571 | E2826: 885.7722 | F2826: 1406.3354 | G2826: =G2825*#REF!/#REF! -> #REF! | H2826: =H2825*B2826/B2825 -> 998.44076 | I2826: =I2825*D2826/D2825 -> 1007.0214 | J2826: =J2825*F2826/F2825 -> 1003.2713
A2827: 41648 | B2827: 1450.4545 | C2827: 1549.4163 | D2827: 1397.9433 | E2827: 888.5134 | F2827: 1412.0966 | G2827: =G2826*#REF!/#REF! -> #REF! | H2827: =H2826*B2827/B2826 -> 1000.0887 | I2827: =I2826*D2827/D2826 -> 1010.1809 | J2827: =J2826*F2827/F2826 -> 1007.3813
A2828: 41649 | B2828: 1454.358 | C2828: 1556.6969 | D2828: 1404.4259 | E2828: 892.3322 | F2828: 1416.6511 | G2828: =G2827*#REF!/#REF! -> #REF! | H2828: =H2827*B2828/B2827 -> 1002.7802 | I2828: =I2827*D2828/D2827 -> 1014.8654 | J2828: =J2827*F2828/F2827 -> 1010.6305
A2829: 41652 | B2829: 1462.2938 | C2829: 1564.3802 | D2829: 1409.0599 | E2829: 895.5782 | F2829: 1420.3858 | G2829: =G2828*#REF!/#REF! -> #REF! | H2829: =H2828*B2829/B2828 -> 1008.2519 | I2829: =I2828*D2829/D2828 -> 1018.214 | J2829: =J2828*F2829/F2828 -> 1013.2948
A2830: 41653 | B2830: 1459.8613 | C2830: 1561.3467 | D2830: 1406.3488 | E2830: 896.8802 | F2830: 1416.7778 | G2830: =G2829*#REF!/#REF! -> #REF! | H2830: =H2829*B2830/B2829 -> 1006.5747 | I2830: =I2829*D2830/D2829 -> 1016.2549 | J2830: =J2829*F2830/F2829 -> 1010.7209
A2831: 41654 | B2831: 1467.1535 | C2831: 1568.6212 | D2831: 1414.2699 | E2831: 902.0051 | F2831: 1425.6882 | G2831: =G2830*#REF!/#REF! -> #REF! | H2831: =H2830*B2831/B2830 -> 1011.6027 | I2831: =I2830*D2831/D2830 -> 1021.9788 | J2831: =J2830*F2831/F2830 -> 1017.0775
A2832: 41655 | B2832: 1464.1 | C2832: 1565.0621 | D2832: 1410.9605 | E2832: 901.7581 | F2832: 1423.3502 | G2832: =G2831*#REF!/#REF! -> #REF! | H2832: =H2831*B2832/B2831 -> 1009.4973 | I2832: =I2831*D2832/D2831 -> 1019.5874 | J2832: =J2831*F2832/F2831 -> 1015.4096
A2833: 41656 | B2833: 1477.9638 | C2833: 1581.3275 | D2833: 1431.8925 | E2833: 908.107 | F2833: 1450.1678 | G2833: =G2832*#REF!/#REF! -> #REF! | H2833: =H2832*B2833/B2832 -> 1019.0564 | I2833: =I2832*D2833/D2832 -> 1034.7133 | J2833: =J2832*F2833/F2832 -> 1034.5411
... A5993: 46171 | B5993: 1337.4085 | C5993: 1659.1289 | D5993: 1365.8133 | E5993: 987.0382 | F5993: 1189.8329 | G5993: =G5992*#REF!/#REF! -> #REF! | H5993: =H5992*B5993/B5992 -> 922.14349 | I5993: =I5992*D5993/D5992 -> 986.96315 | J5993: =J5992*F5993/F5992 -> 848.81974
G5994: =G5993*#REF!/#REF! -> #REF! | H5994: =H5993*B5994/B5993 -> 0 | I5994: =I5993*D5994/D5993 -> 0 | J5994: =J5993*F5994/F5993 -> 0
G5995: =G5994*#REF!/#REF! -> #REF! | H5995: =H5994*B5995/B5994 -> #DIV/0! | I5995: =I5994*D5995/D5994 -> #DIV/0! | J5995: =J5994*F5995/F5994 -> #DIV/0!
G5996: =G5995*#REF!/#REF! -> #REF! | H5996: =H5995*B5996/B5995 -> #DIV/0! | I5996: =I5995*D5996/D5995 -> #DIV/0! | J5996: =J5995*F5996/F5995 -> #DIV/0!
G5997: =G5996*#REF!/#REF! -> #REF! | H5997: =H5996*B5997/B5996 -> #DIV/0! | I5997: =I5996*D5997/D5996 -> #DIV/0! | J5997: =J5996*F5997/F5996 -> #DIV/0!
G5998: =G5997*#REF!/#REF! -> #REF! | H5998: =H5997*B5998/B5997 -> #DIV/0! | I5998: =I5997*D5998/D5997 -> #DIV/0! | J5998: =J5997*F5998/F5997 -> #DIV/0!
G5999: =G5998*#REF!/#REF! -> #REF! | H5999: =H5998*B5999/B5998 -> #DIV/0! | I5999: =I5998*D5999/D5998 -> #DIV/0! | J5999: =J5998*F5999/F5998 -> #DIV/0!
G6000: =G5999*#REF!/#REF! -> #REF! | H6000: =H5999*B6000/B5999 -> #DIV/0! | I6000: =I5999*D6000/D5999 -> #DIV/0! | J6000: =J5999*F6000/F5999 -> #DIV/0!
G6001: =G6000*#REF!/#REF! -> #REF! | H6001: =H6000*B6001/B6000 -> #DIV/0! | I6001: =I6000*D6001/D6000 -> #DIV/0! | J6001: =J6000*F6001/F6000 -> #DIV/0!
G6002: =G6001*#REF!/#REF! -> #REF! | H6002: =H6001*B6002/B6001 -> #DIV/0! | I6002: =I6001*D6002/D6001 -> #DIV/0! | J6002: =J6001*F6002/F6001 -> #DIV/0!
G6003: =G6002*#REF!/#REF! -> #REF! | H6003: =H6002*B6003/B6002 -> #DIV/0! | I6003: =I6002*D6003/D6002 -> #DIV/0! | J6003: =J6002*F6003/F6002 -> #DIV/0!
G6004: =G6003*#REF!/#REF! -> #REF! | H6004: =H6003*B6004/B6003 -> #DIV/0! | I6004: =I6003*D6004/D6003 -> #DIV/0! | J6004: =J6003*F6004/F6003 -> #DIV/0!
G6005: =G6004*#REF!/#REF! -> #REF! | H6005: =H6004*B6005/B6004 -> #DIV/0! | I6005: =I6004*D6005/D6004 -> #DIV/0! | J6005: =J6004*F6005/F6004 -> #DIV/0!
... G8002: =G8001*#REF!/#REF! -> #REF! | H8002: =H8001*B8002/B8001 -> #DIV/0! | I8002: =I8001*D8002/D8001 -> #DIV/0! | J8002: =J8001*F8002/F8001 -> #DIV/0!

Sheet Histo2002 Net
A1: Date | B1: IEIF Eurozone | C1: IEIF Europe Continentale | D1: IEIF Europe | E1: IEIF Eurozone hors France | F1: Euronext IEIF REIT Europe
A2: 37621 | B2: 1000 | C2: 1000 | D2: 1000 | E2: 1000 | F2: 1000
A3: 37623 | B3: 1008.1639 | C3: 1007.3601 | D3: 1007.6233 | E3: 1017.0385 | F3: 1010.59
A4: 37624 | B4: 1015.6595 | C4: 1014.0418 | D4: 1012.3761 | E4: 1023.1191 | F4: 1019.51
A5: 37627 | B5: 1012.2435 | C5: 1011.4248 | D5: 1007.9529 | E5: 1020.933 | F5: 1019.45
A6: 37628 | B6: 1006.3923 | C6: 1007.1173 | D6: 1001.753 | E6: 1016.2602 | F6: 1016.62
A7: 37629 | B7: 1003.0346 | C7: 1003.7538 | D7: 997.0936 | E7: 1011.4714 | F7: 1017.31
A8: 37630 | B8: 1007.5714 | C8: 1006.9649 | D8: 996.9624 | E8: 1017.2381 | F8: 1024.18
A9: 37631 | B9: 1008.2223 | C9: 1007.6747 | D9: 998.9901 | E9: 1018.9602 | F9: 1024.44
A10: 37634 | B10: 1006.2173 | C10: 1005.0458 | D10: 993.2828 | E10: 1013.4512 | F10: 1021.76
A11: 37635 | B11: 1005.0131 | C11: 1004.357 | D11: 995.5781 | E11: 1012.0918 | F11: 1019.3
A12: 37636 | B12: 1003.893 | C12: 1003.3718 | D12: 994.1647 | E12: 1010.362 | F12: 1016.91
A13: 37637 | B13: 1005.3253 | C13: 1004.2368 | D13: 994.4138 | E13: 1015.7948 | F13: 1018.46
... A5993: 46171 | B5993: 3073.2305 | C5993: 3711.5775 | D5993: 2866.9641 | E5993: 2121.3106 | F5993: 3081.3417

Sheet Histo2002 Brut
A1: Date | B1: IEIF Eurozone | C1: IEIF Europe Continentale | D1: IEIF Europe | E1: IEIF Eurozone hors France | F1: Euronext IEIF REIT Europe
A2: 37621 | B2: 1000 | C2: 1000 | D2: 1000 | E2: 1000 | F2: 1000
A3: 37623 | B3: 1008.1639 | C3: 1007.3601 | D3: 1007.6233 | E3: 1017.0385 | F3: 1010.59
A4: 37624 | B4: 1015.6595 | C4: 1014.0418 | D4: 1012.3761 | E4: 1023.1191 | F4: 1019.51
A5: 37627 | B5: 1012.2435 | C5: 1011.4248 | D5: 1007.9529 | E5: 1020.933 | F5: 1019.45
A6: 37628 | B6: 1006.3923 | C6: 1007.1173 | D6: 1001.753 | E6: 1016.2602 | F6: 1016.62
A7: 37629 | B7: 1003.0346 | C7: 1003.7538 | D7: 997.0936 | E7: 1011.4714 | F7: 1017.31
A8: 37630 | B8: 1007.5714 | C8: 1006.9649 | D8: 996.9624 | E8: 1017.2381 | F8: 1024.18
A9: 37631 | B9: 1008.2223 | C9: 1007.6747 | D9: 998.9901 | E9: 1018.9602 | F9: 1024.44
A10: 37634 | B10: 1006.2173 | C10: 1005.0458 | D10: 993.2828 | E10: 1013.4512 | F10: 1021.76
A11: 37635 | B11: 1005.0131 | C11: 1004.357 | D11: 995.5781 | E11: 1012.0918 | F11: 1019.3
A12: 37636 | B12: 1003.893 | C12: 1003.3718 | D12: 994.1647 | E12: 1010.362 | F12: 1016.91
A13: 37637 | B13: 1005.3253 | C13: 1004.2368 | D13: 994.4138 | E13: 1015.7948 | F13: 1018.46
... A2819: 41635 | B2819: 2376.467 | C2819: 2497.2954 | D2819: 2152.7375 | E2819: 1408.5512 | F2819: 2440.1663
A2820: 41638 | B2820: 2385.3043 | C2820: 2506.5823 | D2820: 2157.0118 | E2820: 1410.0114 | F2820: 2439.7147 | G2820: =#REF! -> #REF! | H2820: =B1 -> IEIF Eurozone | I2820: =D1 -> IEIF Europe | J2820: =F1 -> Euronext IEIF REIT Europe
A2821: 41639 | B2821: 2406.0117 | C2821: 2525.533 | D2821: 2178.3001 | E2821: 1411.2778 | F2821: 2474.303 | G2821: 1000 | H2821: 1000 | I2821: 1000 | J2821: 1000
A2822: 41641 | B2822: 2367.0855 | C2822: 2490.9617 | D2822: 2156.2666 | E2822: 1400.1194 | F2822: 2431.6859 | G2822: =G2821*#REF!/#REF! -> #REF! | H2822: =H2821*B2822/B2821 -> 983.82128 | I2822: =I2821*D2822/D2821 -> 989.885 | J2822: =J2821*F2822/F2821 -> 982.77612
A2823: 41642 | B2823: 2384.5305 | C2823: 2507.7575 | D2823: 2175.7324 | E2823: 1406.8171 | F2823: 2459.1012 | G2823: =G2822*#REF!/#REF! -> #REF! | H2823: =H2822*B2823/B2822 -> 991.07186 | I2823: =I2822*D2823/D2822 -> 998.82124 | J2823: =J2822*F2823/F2822 -> 993.85613
A2824: 41645 | B2824: 2382.8933 | C2824: 2504.2518 | D2824: 2172.7131 | E2824: 1409.2663 | F2824: 2456.7484 | G2824: =G2823*#REF!/#REF! -> #REF! | H2824: =H2823*B2824/B2823 -> 990.3914 | I2824: =I2823*D2824/D2823 -> 997.43516 | J2824: =J2823*F2824/F2823 -> 992.90523
A2825: 41646 | B2825: 2399.1476 | C2825: 2518.3273 | D2825: 2186.3537 | E2825: 1419.0515 | F2825: 2471.8649 | G2825: =G2824*#REF!/#REF! -> #REF! | H2825: =H2824*B2825/B2824 -> 997.1471 | I2825: =I2824*D2825/D2824 -> 1003.6972 | J2825: =J2824*F2825/F2824 -> 999.01463
A2826: 41647 | B2826: 2402.2601 | C2826: 2521.0153 | D2826: 2194.8001 | E2826: 1424.3287 | F2826: 2485.407 | G2826: =G2825*#REF!/#REF! -> #REF! | H2826: =H2825*B2826/B2825 -> 998.44074 | I2826: =I2825*D2826/D2825 -> 1007.5747 | J2826: =J2825*F2826/F2825 -> 1004.4877
A2827: 41648 | B2827: 2406.2252 | C2827: 2525.9823 | D2827: 2201.6862 | E2827: 1428.7367 | F2827: 2495.5887 | G2827: =G2826*#REF!/#REF! -> #REF! | H2827: =H2826*B2827/B2826 -> 1000.0887 | I2827: =I2826*D2827/D2826 -> 1010.7359 | J2827: =J2826*F2827/F2826 -> 1008.6027
A2828: 41649 | B2828: 2412.7008 | C2828: 2537.8517 | D2828: 2211.896 | E2828: 1434.8773 | F2828: 2503.6379 | G2828: =G2827*#REF!/#REF! -> #REF! | H2828: =H2827*B2828/B2827 -> 1002.7802 | I2828: =I2827*D2828/D2827 -> 1015.423 | J2828: =J2827*F2828/F2827 -> 1011.8558
A2829: 41652 | B2829: 2425.8659 | C2829: 2550.3776 | D2829: 2219.1942 | E2829: 1440.0969 | F2829: 2510.2382 | G2829: =G2828*#REF!/#REF! -> #REF! | H2829: =H2828*B2829/B2828 -> 1008.2519 | I2829: =I2828*D2829/D2828 -> 1018.7734 | J2829: =J2828*F2829/F2828 -> 1014.5234
A2830: 41653 | B2830: 2421.8306 | C2830: 2545.4323 | D2830: 2214.9245 | E2830: 1442.1906 | F2830: 2503.8618 | G2830: =G2829*#REF!/#REF! -> #REF! | H2830: =H2829*B2830/B2829 -> 1006.5747 | I2830: =I2829*D2830/D2829 -> 1016.8133 | J2830: =J2829*F2830/F2829 -> 1011.9463
A2831: 41654 | B2831: 2433.9279 | C2831: 2557.2917 | D2831: 2227.462 | E2831: 1450.4313 | F2831: 2519.6092 | G2831: =G2830*#REF!/#REF! -> #REF! | H2831: =H2830*B2831/B2830 -> 1011.6027 | I2831: =I2830*D2831/D2830 -> 1022.5689 | J2831: =J2830*F2831/F2830 -> 1018.3107
A2832: 41655 | B2832: 2428.8623 | C2832: 2551.4894 | D2832: 2222.2497 | E2832: 1450.0342 | F2832: 2515.4771 | G2832: =G2831*#REF!/#REF! -> #REF! | H2832: =H2831*B2832/B2831 -> 1009.4973 | I2832: =I2831*D2832/D2831 -> 1020.1761 | J2832: =J2831*F2832/F2831 -> 1016.6407
A2833: 41656 | B2833: 2451.8617 | C2833: 2578.0065 | D2833: 2255.2174 | E2833: 1460.2432 | F2833: 2562.8718 | G2833: =G2832*#REF!/#REF! -> #REF! | H2833: =H2832*B2833/B2832 -> 1019.0564 | I2833: =I2832*D2833/D2832 -> 1035.3107 | J2833: =J2832*F2833/F2832 -> 1035.7955
... A5993: 46171 | B5993: 3775.2385 | C5993: 4833.3606 | D5993: 3550.8525 | E5993: 2494.3014 | F5993: 3643.8815 | G5993: =G5992*#REF!/#REF! -> #REF! | H5993: =H5992*B5993/B5992 -> 1569.0857 | I5993: =I5992*D5993/D5992 -> 1630.1025 | J5993: =J5992*F5993/F5992 -> 1472.6901
G5994: =G5993*#REF!/#REF! -> #REF! | H5994: =H5993*B5994/B5993 -> 0 | I5994: =I5993*D5994/D5993 -> 0 | J5994: =J5993*F5994/F5993 -> 0
G5995: =G5994*#REF!/#REF! -> #REF! | H5995: =H5994*B5995/B5994 -> #DIV/0! | I5995: =I5994*D5995/D5994 -> #DIV/0! | J5995: =J5994*F5995/F5994 -> #DIV/0!
G5996: =G5995*#REF!/#REF! -> #REF! | H5996: =H5995*B5996/B5995 -> #DIV/0! | I5996: =I5995*D5996/D5995 -> #DIV/0! | J5996: =J5995*F5996/F5995 -> #DIV/0!
G5997: =G5996*#REF!/#REF! -> #REF! | H5997: =H5996*B5997/B5996 -> #DIV/0! | I5997: =I5996*D5997/D5996 -> #DIV/0! | J5997: =J5996*F5997/F5996 -> #DIV/0!
G5998: =G5997*#REF!/#REF! -> #REF! | H5998: =H5997*B5998/B5997 -> #DIV/0! | I5998: =I5997*D5998/D5997 -> #DIV/0! | J5998: =J5997*F5998/F5997 -> #DIV/0!
G5999: =G5998*#REF!/#REF! -> #REF! | H5999: =H5998*B5999/B5998 -> #DIV/0! | I5999: =I5998*D5999/D5998 -> #DIV/0! | J5999: =J5998*F5999/F5998 -> #DIV/0!
G6000: =G5999*#REF!/#REF! -> #REF! | H6000: =H5999*B6000/B5999 -> #DIV/0! | I6000: =I5999*D6000/D5999 -> #DIV/0! | J6000: =J5999*F6000/F5999 -> #DIV/0!
G6001: =G6000*#REF!/#REF! -> #REF! | H6001: =H6000*B6001/B6000 -> #DIV/0! | I6001: =I6000*D6001/D6000 -> #DIV/0! | J6001: =J6000*F6001/F6000 -> #DIV/0!
G6002: =G6001*#REF!/#REF! -> #REF! | H6002: =H6001*B6002/B6001 -> #DIV/0! | I6002: =I6001*D6002/D6001 -> #DIV/0! | J6002: =J6001*F6002/F6001 -> #DIV/0!
G6003: =G6002*#REF!/#REF! -> #REF! | H6003: =H6002*B6003/B6002 -> #DIV/0! | I6003: =I6002*D6003/D6002 -> #DIV/0! | J6003: =J6002*F6003/F6002 -> #DIV/0!
G6004: =G6003*#REF!/#REF! -> #REF! | H6004: =H6003*B6004/B6003 -> #DIV/0! | I6004: =I6003*D6004/D6003 -> #DIV/0! | J6004: =J6003*F6004/F6003 -> #DIV/0!
G6005: =G6004*#REF!/#REF! -> #REF! | H6005: =H6004*B6005/B6004 -> #DIV/0! | I6005: =I6004*D6005/D6004 -> #DIV/0! | J6005: =J6004*F6005/F6004 -> #DIV/0!
... G8000: =G7999*#REF!/#REF! -> #REF! | H8000: =H7999*B8000/B7999 -> #DIV/0! | I8000: =I7999*D8000/D7999 -> #DIV/0! | J8000: =J7999*F8000/F7999 -> #DIV/0!

Sheet Histo1999
A1: Date | B1: IEIF Eurozone - Indice nu | C1: IEIF Eurozone - Indice net | D1: IEIF Eurozone - Indice brut
A2: 36164 | B2: 1000 | C2: 1000 | D2: 1000
A3: 36165 | B3: 1012.6045 | C3: 1013.5597 | D3: 1013.9708
A4: 36166 | B4: 1037.7192 | C4: 1038.6981 | D4: 1039.1194
A5: 36167 | B5: 1029.7334 | C5: 1030.7047 | D5: 1031.1228
A6: 36168 | B6: 1026.9753 | C6: 1027.9441 | D6: 1028.361
A7: 36171 | B7: 1021.1016 | C7: 1022.0648 | D7: 1022.4793
A8: 36172 | B8: 1017.784 | C8: 1018.744 | D8: 1019.1572
A9: 36173 | B9: 994.6695 | C9: 995.6078 | D9: 996.0116
A10: 36174 | B10: 1005.2943 | C10: 1006.2425 | D10: 1006.6507
A11: 36175 | B11: 1000.5148 | C11: 1001.4586 | D11: 1001.8648
A12: 36178 | B12: 1004.1634 | C12: 1005.1106 | D12: 1005.5183
A13: 36179 | B13: 1009.3961 | C13: 1010.3483 | D13: 1010.7581
... A7007: 46171 | B7007: 1211.9584 | C7007: 3232.2513 | D7007: 4096.742

Sheet Graphiques
A1: LES INDICES IEIF IMMOBILIER EUROPE
A2: En Euro - Base 1000 au 31/12/2013
A4: Indices nus | G4: Indices coupons bruts réinvestis
A30: Variation par rapport au 31/12/2025 | D30: Euronext IEIF REIT Europe | G30: IEIF Europe | J30: IEIF Eurozone
A31: Indices nus : | D31: =Indices!D17 -> 0.011912477 | G31: =Indices!F17 -> -0.05316716 | J31: =Indices!J17 -> -0.011732184
A32: Indices coupons bruts réinvestis : | D32: =Indices!D26 -> 0.043737273 | G32: =Indices!F26 -> -0.029057564 | J32: =Indices!J26 -> 0.024981355
N35: Source : IEIF, Euronext, SIX Financial Information
